BEGIN:VCALENDAR
VERSION:2.0
PRODID:-//wp-events-plugin.com//7.2.3.1//EN
BEGIN:VEVENT
UID:54@eloiministries.org
DTSTART;TZID=Africa/Nairobi:20260128T083000
DTEND;TZID=Africa/Nairobi:20261223T170000
DTSTAMP:20260127T121819Z
URL:https://eloiministries.org/events/alpha-omega-ecd-nursery-primary-scho
 ol/
SUMMARY:Alpha & Omega ECD Nursery / Primary School
DESCRIPTION:ELOIM is visiting Alpha &amp\; Omega ECD Nursery / Primary Scho
 ol to support the youngest members of our community. Early Childhood Devel
 opment (ECD) is the foundation of a child's future\, and we are dedicated 
 to ensuring these little ones get the start they deserve.\nOur team will b
 e spending the day engaging with the nursery and lower primary classes to 
 provide essential care and educational support.\nOur activities will inclu
 de:\n\n\n 	\nInteractive Storytelling: Sparking imagination and language s
 kills through reading.\n\n 	\nHealth &amp\; Hygiene: Fun demonstrations on
  hand-washing and dental care.\n\n 	\nCreative Play: Art sessions and stru
 ctured games to develop motor skills.\n\n\nCome be a part of their joy and
  help us build a strong foundation for their education!
ATTACH;FMTTYPE=image/jpeg:https://eloiministries.org/wp-content/uploads/20
 25/11/WhatsApp-Image-2025-11-26-at-15.25.55-1-1.jpeg
CATEGORIES:Education
END:VEVENT
BEGIN:VTIMEZONE
TZID:Africa/Nairobi
X-LIC-LOCATION:Africa/Nairobi
BEGIN:STANDARD
DTSTART:20250128T083000
TZOFFSETFROM:+0300
TZOFFSETTO:+0300
TZNAME:EAT
END:STANDARD
END:VTIMEZONE
END:VCALENDAR