BEGIN:VCALENDAR
VERSION:2.0
PRODID:-//wp-events-plugin.com//7.2.3.1//EN
BEGIN:VEVENT
UID:31@eloiministries.org
DTSTART:20260130T080000Z
DTEND:20261218T170000Z
DTSTAMP:20260127T121703Z
URL:https://eloiministries.org/events/good-samaritan-outreach/
SUMMARY:Good Samaritan Facility Outreach
DESCRIPTION:Join ELOI Ministries every week at Good Samaritan for a vital g
 athering dedicated to strengthening the health of our community. This is m
 ore than just a meeting\; it's a chance for us to come together\, learn\, 
 and speak up for the healthcare we all deserve.\n\nOur goal is to empower 
 every individual with the knowledge to make better health decisions and ad
 vocate for their families.\n\nAt this weekly event\, we will:\n\n 	Discuss
  important health topics like sanitation\, nutrition\, and preventing comm
 on illnesses.\n 	Share information on the services available at the health
  centre and how to access them.\n 	Listen to your concerns and experiences
  to help advocate for improvements.\n 	Connect you with resources and supp
 ort for your family's well-being.\n\nWho should attend? This event is for 
 everyone: parents\, elders\, youth\, and local leaders. Your voice matters
 .\n\nLet's work together to build a healthier\, stronger future for our co
 mmunity.
ATTACH;FMTTYPE=image/jpeg:https://eloiministries.org/wp-content/uploads/20
 24/11/cbcbcbw.png
CATEGORIES:Health
LOCATION:Good Samaritan Kinawataka\, Kinawataka\, Kampala\, Uganda
X-APPLE-STRUCTURED-LOCATION;VALUE=URI;X-ADDRESS=Kinawataka\, Kampala\, Ugan
 da;X-APPLE-RADIUS=100;X-TITLE=Good Samaritan Kinawataka:geo:0,0
END:VEVENT
END:VCALENDAR