BEGIN:VCALENDAR
VERSION:2.0
PRODID:-//wp-events-plugin.com//7.2.3.1//EN
BEGIN:VEVENT
UID:4@eloiministries.org
DTSTART:20260128T080000Z
DTEND:20261223T170000Z
DTSTAMP:20260127T121550Z
URL:https://eloiministries.org/events/kira-health-centre-iv-in-kira/
SUMMARY:Kira Health Centre IV in Kira
DESCRIPTION:Did you know that you have a right to quality healthcare? Often
 \, the services we need are available\, but we don't know how to find them
  or what to ask for.\n\nELOI Ministries is hosting a weekly advocacy event
  to bridge this gap. Our mission is to ensure every member of our communit
 y understands their health rights and feels confident navigating the healt
 hcare system. An informed patient is an empowered patient.\n\nThis weekly 
 session will cover:\n\n 	A clear guide to the services offered for free or
  at a low cost at Kira Health Centre IV.\n 	Understanding your rights as a
  patient\, including the right to information and respectful care.\n 	How 
 to ask the right questions to your healthcare provider.\n 	Steps you can t
 ake if you face challenges in getting the care you need.\n\nWho should att
 end? This event is for every community member who wants to take control of
  their health and become a strong advocate for themselves and their loved 
 ones.\n\nDon't be left in the dark. Join us and learn how to claim your ri
 ght to good health.
ATTACH;FMTTYPE=image/jpeg:https://eloiministries.org/wp-content/uploads/20
 24/10/Screenshot-143.png
CATEGORIES:Health
LOCATION:Kira Health Centre IV .\, Kira\, Kampala\, Uganda
X-APPLE-STRUCTURED-LOCATION;VALUE=URI;X-ADDRESS=Kira\, Kampala\, Uganda;X-A
 PPLE-RADIUS=100;X-TITLE=Kira Health Centre IV .:geo:0,0
END:VEVENT
END:VCALENDAR