BEGIN:VCALENDAR
VERSION:2.0
PRODID:-//wp-events-plugin.com//7.2.3.1//EN
BEGIN:VEVENT
UID:17@eloiministries.org
DTSTART:20260127T083000Z
DTEND:20261222T170000Z
DTSTAMP:20260127T121420Z
URL:https://eloiministries.org/events/kyosiima-clinic-outreach/
SUMMARY:Kyosiima Clinic Outreach
DESCRIPTION:ELOI Ministries invites all mothers\, fathers\, and caregivers 
 to a special weekly session focused on the health of our children and fami
 lies. A healthy community begins with healthy mothers and babies\, and we 
 are here to support you on that journey.\n\nWe believe that every family d
 eserves access to the information and care needed to thrive. Come and lear
 n how to be a powerful advocate for your child's health from pregnancy and
  beyond.\n\nJoin us to learn about and discuss:\n\n 	The importance of ant
 enatal (prenatal) care and safe childbirth.\n 	Critical nutrition for moth
 ers and infants.\n 	Your child's vaccination schedule and why it matters.\
 n 	How to access family planning services and support.\n 	Your rights as a
  patient and parent within the health system.\n\nWho should attend? Expect
 ant mothers\, new parents\, grandparents\, and anyone who cares for childr
 en in our community.\n\nEmpower your family with knowledge. Your participa
 tion can create a healthier generation.
ATTACH;FMTTYPE=image/jpeg:https://eloiministries.org/wp-content/uploads/20
 24/11/cropped-shot-female-nurse-hold-600nw-2125640579.webp
CATEGORIES:Health
LOCATION:Kyossima Clinc\, Kiwatule\, Kampala\, Uganda
X-APPLE-STRUCTURED-LOCATION;VALUE=URI;X-ADDRESS=Kiwatule\, Kampala\, Uganda
 ;X-APPLE-RADIUS=100;X-TITLE=Kyossima Clinc:geo:0,0
END:VEVENT
END:VCALENDAR