BEGIN:VCALENDAR
VERSION:2.0
PRODID:-//wp-events-plugin.com//7.2.3.1//EN
BEGIN:VEVENT
UID:50@eloiministries.org
DTSTART;TZID=Africa/Nairobi:20260128T083000
DTEND;TZID=Africa/Nairobi:20261223T170000
DTSTAMP:20260127T122039Z
URL:https://eloiministries.org/events/st-mbaaga-kiwatule-primary-school-2/
SUMMARY:St. Mbaaga Kiwatule Primary School
DESCRIPTION:Climate change is a global challenge\, but the solution starts 
 locally. ELOIM is heading to St. Mbaaga Kiwatule Primary School to educate
  the next generation about the importance of environmental stewardship.\nO
 ur team will engage students in an interactive session designed to simplif
 y complex climate concepts and inspire action. We believe that by empoweri
 ng children with knowledge\, we are investing in a greener\, more sustaina
 ble future for Uganda.\nActivities for the day:\n\n\n 	\nClimate Workshops
 : Fun\, age-appropriate lessons on global warming\, waste management\, and
  conservation.\n\n 	\nGreen Games: Interactive activities to make learning
  about the planet exciting.\n\n 	\nPledge for the Planet: Encouraging stud
 ents to adopt eco-friendly habits at home and school.\n\n\nJoin us as we n
 urture the minds that will protect our planet!
ATTACH;FMTTYPE=image/jpeg:https://eloiministries.org/wp-content/uploads/20
 25/01/Focus-on-the-environment.png
CATEGORIES:Climate
END:VEVENT
BEGIN:VTIMEZONE
TZID:Africa/Nairobi
X-LIC-LOCATION:Africa/Nairobi
BEGIN:STANDARD
DTSTART:20250128T083000
TZOFFSETFROM:+0300
TZOFFSETTO:+0300
TZNAME:EAT
END:STANDARD
END:VTIMEZONE
END:VCALENDAR