BEGIN:VCALENDAR
VERSION:2.0
PRODID:-//wp-events-plugin.com//7.2.3.1//EN
BEGIN:VEVENT
UID:45@eloiministries.org
DTSTART;TZID=Africa/Nairobi:20260126T083000
DTEND;TZID=Africa/Nairobi:20261216T130000
DTSTAMP:20260127T121931Z
URL:https://eloiministries.org/events/st-mbaaga-kiwatule-primary-school/
SUMMARY:St. Mbaaga Kiwatule Primary School
DESCRIPTION:Educational Outreach at St. Mbaaga Kiwatule Primary School\nJoi
 n us for a meaningful day of educational activities at St. Mbaaga Kiwatule
  Primary School. Our team will be conducting interactive learning sessions
  designed to inspire and empower young learners in the Kiwatule community.
 \nThis outreach program is part of our ongoing commitment to supporting qu
 ality education and creating positive learning experiences for children. W
 e'll be working directly with students through engaging educational activi
 ties that complement their regular curriculum.\nWhat to Expect:\n\n\n 	Han
 ds-on educational activities with primary school students\n 	Interactive l
 earning sessions\n 	Community engagement and support\n 	An opportunity to 
 make a direct impact on young lives\n\nWhether you're a volunteer\, suppor
 ter\, or community member\, this is a wonderful opportunity to contribute 
 to educational development in our community.\nWe look forward to making th
 is a memorable and impactful day for the students of St. Mbaaga Kiwatule P
 rimary School!\n[gallery ids="12720\,12721"]
ATTACH;FMTTYPE=image/jpeg:https://eloiministries.org/wp-content/uploads/20
 25/12/WhatsApp-Image-2025-12-02-at-16.57.00.jpeg
CATEGORIES:Education
END:VEVENT
BEGIN:VTIMEZONE
TZID:Africa/Nairobi
X-LIC-LOCATION:Africa/Nairobi
BEGIN:STANDARD
DTSTART:20250126T083000
TZOFFSETFROM:+0300
TZOFFSETTO:+0300
TZNAME:EAT
END:STANDARD
END:VTIMEZONE
END:VCALENDAR